BEGIN:VCALENDAR
VERSION:2.0
PRODID:-//Kiezkiosk Open Tiny e.V. - ECPv6.15.17.1//NONSGML v1.0//EN
CALSCALE:GREGORIAN
METHOD:PUBLISH
X-ORIGINAL-URL:https://opentiny.de
X-WR-CALDESC:Veranstaltungen für Kiezkiosk Open Tiny e.V.
REFRESH-INTERVAL;VALUE=DURATION:PT1H
X-Robots-Tag:noindex
X-PUBLISHED-TTL:PT1H
BEGIN:VTIMEZONE
TZID:Europe/Berlin
BEGIN:DAYLIGHT
TZOFFSETFROM:+0100
TZOFFSETTO:+0200
TZNAME:CEST
DTSTART:20220327T010000
END:DAYLIGHT
BEGIN:STANDARD
TZOFFSETFROM:+0200
TZOFFSETTO:+0100
TZNAME:CET
DTSTART:20221030T010000
END:STANDARD
BEGIN:DAYLIGHT
TZOFFSETFROM:+0100
TZOFFSETTO:+0200
TZNAME:CEST
DTSTART:20230326T010000
END:DAYLIGHT
BEGIN:STANDARD
TZOFFSETFROM:+0200
TZOFFSETTO:+0100
TZNAME:CET
DTSTART:20231029T010000
END:STANDARD
BEGIN:DAYLIGHT
TZOFFSETFROM:+0100
TZOFFSETTO:+0200
TZNAME:CEST
DTSTART:20240331T010000
END:DAYLIGHT
BEGIN:STANDARD
TZOFFSETFROM:+0200
TZOFFSETTO:+0100
TZNAME:CET
DTSTART:20241027T010000
END:STANDARD
END:VTIMEZONE
BEGIN:VEVENT
DTSTART;TZID=Europe/Berlin:20230102T200000
DTEND;TZID=Europe/Berlin:20230102T210000
DTSTAMP:20260425T135122
CREATED:20221207T143733Z
LAST-MODIFIED:20221207T143733Z
UID:818-1672689600-1672693200@opentiny.de
SUMMARY:Open Tiny Plenum
DESCRIPTION:Du möchtest im Open Tiny deine Ideen mit der Nachbarschaft teilen? Komm vorbei\, erzähl uns von deinen Visionen und wir organisieren alles weitere zusammen …  \nDas Plenum findet ab 2023 immer am ersten Montag im Monat um 20 Uhr statt. Wenn es die aktuelle Situation zulässt\, treffen wir uns bei uns im Open Tiny in der Treptower Straße 84.
URL:https://opentiny.de/event/open-tiny-plenum-11/
ATTACH;FMTTYPE=image/jpeg:https://opentiny.de/wp-content/uploads/2022/06/2022-06-07-21.12.20-scaled.jpg
END:VEVENT
END:VCALENDAR