BEGIN:VCALENDAR
VERSION:2.0
PRODID:-//Kiezkiosk Open Tiny e.V. - ECPv6.15.17.1//NONSGML v1.0//EN
CALSCALE:GREGORIAN
METHOD:PUBLISH
X-WR-CALNAME:Kiezkiosk Open Tiny e.V.
X-ORIGINAL-URL:https://opentiny.de
X-WR-CALDESC:Veranstaltungen für Kiezkiosk Open Tiny e.V.
REFRESH-INTERVAL;VALUE=DURATION:PT1H
X-Robots-Tag:noindex
X-PUBLISHED-TTL:PT1H
BEGIN:VTIMEZONE
TZID:Europe/Berlin
BEGIN:DAYLIGHT
TZOFFSETFROM:+0100
TZOFFSETTO:+0200
TZNAME:CEST
DTSTART:20250330T010000
END:DAYLIGHT
BEGIN:STANDARD
TZOFFSETFROM:+0200
TZOFFSETTO:+0100
TZNAME:CET
DTSTART:20251026T010000
END:STANDARD
BEGIN:DAYLIGHT
TZOFFSETFROM:+0100
TZOFFSETTO:+0200
TZNAME:CEST
DTSTART:20260329T010000
END:DAYLIGHT
BEGIN:STANDARD
TZOFFSETFROM:+0200
TZOFFSETTO:+0100
TZNAME:CET
DTSTART:20261025T010000
END:STANDARD
BEGIN:DAYLIGHT
TZOFFSETFROM:+0100
TZOFFSETTO:+0200
TZNAME:CEST
DTSTART:20270328T010000
END:DAYLIGHT
BEGIN:STANDARD
TZOFFSETFROM:+0200
TZOFFSETTO:+0100
TZNAME:CET
DTSTART:20271031T010000
END:STANDARD
END:VTIMEZONE
BEGIN:VEVENT
DTSTART;TZID=Europe/Berlin:20260601T200000
DTEND;TZID=Europe/Berlin:20260601T210000
DTSTAMP:20260424T005133
CREATED:20260128T170038Z
LAST-MODIFIED:20260128T170124Z
UID:1750-1780344000-1780347600@opentiny.de
SUMMARY:Open Tiny ° Open Door
DESCRIPTION:Jeden ersten Montag im Monat öffnen wir unsere Türen für Interessierte \n\nMöchtest du ein Projekt im Open Tiny machen?\nMöchtest du Mitglied im Verein werden?\nOder einfach mal sehen\, was wir so machen?\n\nDann komm vorbei! Gerne mit Anmeldung via Email (mail at opentiny.de) \n\nEvery first Monday a month we open our doors for interested people \n\nDo you want to do a project at Open Tiny?\nDo you want to become a member of our club?\nOr just learn what we are doing?\n\nCome by and meet us! Registration via email is appreciated (mail at opentiny.de) \n 
URL:https://opentiny.de/event/open-tiny-open-door-5/
ATTACH;FMTTYPE=image/jpeg:https://opentiny.de/wp-content/uploads/2022/06/2022-06-07-21.12.20-scaled.jpg
END:VEVENT
BEGIN:VEVENT
DTSTART;TZID=Europe/Berlin:20260602T190000
DTEND;TZID=Europe/Berlin:20260602T220000
DTSTAMP:20260424T005133
CREATED:20260313T115303Z
LAST-MODIFIED:20260313T115303Z
UID:1870-1780426800-1780437600@opentiny.de
SUMMARY:Karaoke
DESCRIPTION:Komm zum Singen im Open Tiny! Dienstags 19:00-22:00
URL:https://opentiny.de/event/karaoke-18/
END:VEVENT
BEGIN:VEVENT
DTSTART;TZID=Europe/Berlin:20260607T160000
DTEND;TZID=Europe/Berlin:20260607T210000
DTSTAMP:20260424T005133
CREATED:20260313T112726Z
LAST-MODIFIED:20260313T112726Z
UID:1834-1780848000-1780866000@opentiny.de
SUMMARY:Board Game Night
DESCRIPTION:Brettspiele im Open Tiny. Grundausstattung vorhanden – eigene Spiele willkommen!
URL:https://opentiny.de/event/board-game-night-4/
END:VEVENT
BEGIN:VEVENT
DTSTART;TZID=Europe/Berlin:20260608T183000
DTEND;TZID=Europe/Berlin:20260608T210000
DTSTAMP:20260424T005133
CREATED:20260313T115318Z
LAST-MODIFIED:20260313T115318Z
UID:1871-1780943400-1780952400@opentiny.de
SUMMARY:Repair Café
DESCRIPTION:Toaster\, Staubsauger\, Beamer\, Stereoanlage defekt? Bitte nicht wegwerfen!! Wir geben Hilfe zur Selbsthilfe! Gemeinsam versuchen wir\, deine kaputten Geräte zu reparieren. Elektro – Audio – Unterhaltungselektronik. Komm vorbei\, keine Anmeldung nötig! Immer am 2. Montag im Monat
URL:https://opentiny.de/event/repair-cafe-46/
END:VEVENT
BEGIN:VEVENT
DTSTART;TZID=Europe/Berlin:20260609T190000
DTEND;TZID=Europe/Berlin:20260609T220000
DTSTAMP:20260424T005133
CREATED:20260313T115318Z
LAST-MODIFIED:20260313T115318Z
UID:1872-1781031600-1781042400@opentiny.de
SUMMARY:Karaoke
DESCRIPTION:Komm zum Singen im Open Tiny! Dienstags 19:00-22:00
URL:https://opentiny.de/event/karaoke-19/
END:VEVENT
BEGIN:VEVENT
DTSTART;VALUE=DATE:20260613
DTEND;VALUE=DATE:20260614
DTSTAMP:20260424T005133
CREATED:20260413T144315Z
LAST-MODIFIED:20260413T144315Z
UID:2018-1781308800-1781395199@opentiny.de
SUMMARY:Open Tiny Records
DESCRIPTION:Plattenbörse mit Musik & Drinks 🙂
URL:https://opentiny.de/event/open-tiny-records-17/
END:VEVENT
BEGIN:VEVENT
DTSTART;TZID=Europe/Berlin:20260616T190000
DTEND;TZID=Europe/Berlin:20260616T220000
DTSTAMP:20260424T005133
CREATED:20260313T115318Z
LAST-MODIFIED:20260313T115318Z
UID:1873-1781636400-1781647200@opentiny.de
SUMMARY:Karaoke
DESCRIPTION:Komm zum Singen im Open Tiny! Dienstags 19:00-22:00
URL:https://opentiny.de/event/karaoke-20/
END:VEVENT
BEGIN:VEVENT
DTSTART;VALUE=DATE:20260620
DTEND;VALUE=DATE:20260622
DTSTAMP:20260424T005133
CREATED:20260421T063514Z
LAST-MODIFIED:20260421T063514Z
UID:2030-1781913600-1782086399@opentiny.de
SUMMARY:Ausstellung & Workshop „Collage aus Fundstücken/Müll“
DESCRIPTION:Mit Marina \nWeitere Infos folgen
URL:https://opentiny.de/event/ausstellung-workshop-collage-aus-fundstuecken-muell/
END:VEVENT
BEGIN:VEVENT
DTSTART;TZID=Europe/Berlin:20260623T190000
DTEND;TZID=Europe/Berlin:20260623T220000
DTSTAMP:20260424T005133
CREATED:20260313T115318Z
LAST-MODIFIED:20260313T115318Z
UID:1874-1782241200-1782252000@opentiny.de
SUMMARY:Karaoke
DESCRIPTION:Komm zum Singen im Open Tiny! Dienstags 19:00-22:00
URL:https://opentiny.de/event/karaoke-21/
END:VEVENT
BEGIN:VEVENT
DTSTART;TZID=Europe/Berlin:20260630T190000
DTEND;TZID=Europe/Berlin:20260630T220000
DTSTAMP:20260424T005133
CREATED:20260313T115318Z
LAST-MODIFIED:20260313T115318Z
UID:1875-1782846000-1782856800@opentiny.de
SUMMARY:Karaoke
DESCRIPTION:Komm zum Singen im Open Tiny! Dienstags 19:00-22:00
URL:https://opentiny.de/event/karaoke-22/
END:VEVENT
END:VCALENDAR