BEGIN:VCALENDAR
VERSION:2.0
PRODID:-//Kiezkiosk Open Tiny e.V. - ECPv6.15.17.1//NONSGML v1.0//EN
CALSCALE:GREGORIAN
METHOD:PUBLISH
X-ORIGINAL-URL:https://opentiny.de
X-WR-CALDESC:Veranstaltungen für Kiezkiosk Open Tiny e.V.
REFRESH-INTERVAL;VALUE=DURATION:PT1H
X-Robots-Tag:noindex
X-PUBLISHED-TTL:PT1H
BEGIN:VTIMEZONE
TZID:Europe/Berlin
BEGIN:DAYLIGHT
TZOFFSETFROM:+0100
TZOFFSETTO:+0200
TZNAME:CEST
DTSTART:20250330T010000
END:DAYLIGHT
BEGIN:STANDARD
TZOFFSETFROM:+0200
TZOFFSETTO:+0100
TZNAME:CET
DTSTART:20251026T010000
END:STANDARD
BEGIN:DAYLIGHT
TZOFFSETFROM:+0100
TZOFFSETTO:+0200
TZNAME:CEST
DTSTART:20260329T010000
END:DAYLIGHT
BEGIN:STANDARD
TZOFFSETFROM:+0200
TZOFFSETTO:+0100
TZNAME:CET
DTSTART:20261025T010000
END:STANDARD
BEGIN:DAYLIGHT
TZOFFSETFROM:+0100
TZOFFSETTO:+0200
TZNAME:CEST
DTSTART:20270328T010000
END:DAYLIGHT
BEGIN:STANDARD
TZOFFSETFROM:+0200
TZOFFSETTO:+0100
TZNAME:CET
DTSTART:20271031T010000
END:STANDARD
END:VTIMEZONE
BEGIN:VEVENT
DTSTART;TZID=Europe/Berlin:20260503T160000
DTEND;TZID=Europe/Berlin:20260503T210000
DTSTAMP:20260423T232227
CREATED:20260313T112726Z
LAST-MODIFIED:20260313T112726Z
UID:1833-1777824000-1777842000@opentiny.de
SUMMARY:Board Game Night
DESCRIPTION:Brettspiele im Open Tiny. Grundausstattung vorhanden – eigene Spiele willkommen!
URL:https://opentiny.de/event/board-game-night-3/
END:VEVENT
BEGIN:VEVENT
DTSTART;TZID=Europe/Berlin:20260504T200000
DTEND;TZID=Europe/Berlin:20260504T210000
DTSTAMP:20260423T232227
CREATED:20260128T165956Z
LAST-MODIFIED:20260128T170136Z
UID:1748-1777924800-1777928400@opentiny.de
SUMMARY:Open Tiny ° Open Door
DESCRIPTION:Jeden ersten Montag im Monat öffnen wir unsere Türen für Interessierte \n\nMöchtest du ein Projekt im Open Tiny machen?\nMöchtest du Mitglied im Verein werden?\nOder einfach mal sehen\, was wir so machen?\n\nDann komm vorbei! Gerne mit Anmeldung via Email (mail at opentiny.de) \n\nEvery first Monday a month we open our doors for interested people \n\nDo you want to do a project at Open Tiny?\nDo you want to become a member of our club?\nOr just learn what we are doing?\n\nCome by and meet us! Registration via email is appreciated (mail at opentiny.de) \n 
URL:https://opentiny.de/event/open-tiny-open-door-4/
ATTACH;FMTTYPE=image/jpeg:https://opentiny.de/wp-content/uploads/2022/06/2022-06-07-21.12.20-scaled.jpg
END:VEVENT
BEGIN:VEVENT
DTSTART;TZID=Europe/Berlin:20260505T190000
DTEND;TZID=Europe/Berlin:20260505T220000
DTSTAMP:20260423T232227
CREATED:20260313T115103Z
LAST-MODIFIED:20260313T115103Z
UID:1864-1778007600-1778018400@opentiny.de
SUMMARY:Karaoke
DESCRIPTION:Komm zum Singen im Open Tiny! Dienstags 19:00-22:00
URL:https://opentiny.de/event/karaoke-14/
END:VEVENT
BEGIN:VEVENT
DTSTART;TZID=Europe/Berlin:20260506T150000
DTEND;TZID=Europe/Berlin:20260506T210000
DTSTAMP:20260423T232227
CREATED:20260313T112413Z
LAST-MODIFIED:20260313T112413Z
UID:1822-1778079600-1778101200@opentiny.de
SUMMARY:Freundeskreis KUNSTdemokratie Produktionstag
DESCRIPTION:
URL:https://opentiny.de/event/freundeskreis-kunstdemokratie-produktionstag-8/
END:VEVENT
BEGIN:VEVENT
DTSTART;TZID=Europe/Berlin:20260511T183000
DTEND;TZID=Europe/Berlin:20260511T210000
DTSTAMP:20260423T232227
CREATED:20260313T115103Z
LAST-MODIFIED:20260313T115103Z
UID:1865-1778524200-1778533200@opentiny.de
SUMMARY:Repair Café
DESCRIPTION:Toaster\, Staubsauger\, Beamer\, Stereoanlage defekt? Bitte nicht wegwerfen!! Wir geben Hilfe zur Selbsthilfe! Gemeinsam versuchen wir\, deine kaputten Geräte zu reparieren. Elektro – Audio – Unterhaltungselektronik. Komm vorbei\, keine Anmeldung nötig! Immer am 2. Montag im Monat
URL:https://opentiny.de/event/repair-cafe-45/
END:VEVENT
BEGIN:VEVENT
DTSTART;TZID=Europe/Berlin:20260512T190000
DTEND;TZID=Europe/Berlin:20260512T220000
DTSTAMP:20260423T232227
CREATED:20260313T115303Z
LAST-MODIFIED:20260313T115303Z
UID:1866-1778612400-1778623200@opentiny.de
SUMMARY:Karaoke
DESCRIPTION:Komm zum Singen im Open Tiny! Dienstags 19:00-22:00
URL:https://opentiny.de/event/karaoke-15/
END:VEVENT
BEGIN:VEVENT
DTSTART;TZID=Europe/Berlin:20260513T150000
DTEND;TZID=Europe/Berlin:20260513T210000
DTSTAMP:20260423T232227
CREATED:20260313T112413Z
LAST-MODIFIED:20260313T112413Z
UID:1823-1778684400-1778706000@opentiny.de
SUMMARY:Freundeskreis KUNSTdemokratie Produktionstag
DESCRIPTION:
URL:https://opentiny.de/event/freundeskreis-kunstdemokratie-produktionstag-9/
END:VEVENT
BEGIN:VEVENT
DTSTART;VALUE=DATE:20260515
DTEND;VALUE=DATE:20260518
DTSTAMP:20260423T232227
CREATED:20260421T062854Z
LAST-MODIFIED:20260421T062854Z
UID:2027-1778803200-1779062399@opentiny.de
SUMMARY:Upcycling Buchbindung + Cyanotypie Workshop
DESCRIPTION:Bücher binden aus geretteten Materialien – Workshop mit Prima \nWeitere Infos folgen 🙂 \n 
URL:https://opentiny.de/event/upcycling-buchbindung-cyanotypie-workshop/
END:VEVENT
BEGIN:VEVENT
DTSTART;TZID=Europe/Berlin:20260519T190000
DTEND;TZID=Europe/Berlin:20260519T220000
DTSTAMP:20260423T232227
CREATED:20260313T115303Z
LAST-MODIFIED:20260313T115303Z
UID:1867-1779217200-1779228000@opentiny.de
SUMMARY:Karaoke
DESCRIPTION:Komm zum Singen im Open Tiny! Dienstags 19:00-22:00
URL:https://opentiny.de/event/karaoke-16/
END:VEVENT
BEGIN:VEVENT
DTSTART;TZID=Europe/Berlin:20260520T150000
DTEND;TZID=Europe/Berlin:20260520T210000
DTSTAMP:20260423T232227
CREATED:20260313T112413Z
LAST-MODIFIED:20260313T112413Z
UID:1824-1779289200-1779310800@opentiny.de
SUMMARY:Freundeskreis KUNSTdemokratie Produktionstag
DESCRIPTION:
URL:https://opentiny.de/event/freundeskreis-kunstdemokratie-produktionstag-10/
END:VEVENT
BEGIN:VEVENT
DTSTART;TZID=Europe/Berlin:20260526T190000
DTEND;TZID=Europe/Berlin:20260526T220000
DTSTAMP:20260423T232227
CREATED:20260313T115303Z
LAST-MODIFIED:20260313T115303Z
UID:1868-1779822000-1779832800@opentiny.de
SUMMARY:Karaoke
DESCRIPTION:Komm zum Singen im Open Tiny! Dienstags 19:00-22:00
URL:https://opentiny.de/event/karaoke-17/
END:VEVENT
BEGIN:VEVENT
DTSTART;TZID=Europe/Berlin:20260530T140000
DTEND;TZID=Europe/Berlin:20260530T160000
DTSTAMP:20260423T232227
CREATED:20260313T115303Z
LAST-MODIFIED:20260421T063137Z
UID:1869-1780149600-1780156800@opentiny.de
SUMMARY:Kleidertausch - Idyll ohne Müll
DESCRIPTION:Am Samstag\, den 30.05.2026 von 14-16 Uhr veranstaltet das QM-Projekt „Idyll ohne Müll“ wieder einen Kleidertausch.\nKommt gerne vorbei\, bringt eure gewaschenen und aussortierten Kleidungsstücke mit\, die ihr gerne weitergeben möchtet und nehmt euch neue Kleidung mit nach Hause.\nWichtig\, jede Person sollte nicht mehr als 5 Kleidungsstücke mitnehmen. Es können auch nur Kleidungsstücke mitgenommen werden\, niemand muss etwas mitbringen. \nDer Kleidertausch findet im Open Tiny in der Treptower Str. 84 statt. \nWir freuen uns auf euch 👔 👗 👟!
URL:https://opentiny.de/event/kleidertausch-idyll-ohne-muell/
END:VEVENT
END:VCALENDAR