BEGIN:VCALENDAR
VERSION:2.0
PRODID:-//Kiezkiosk Open Tiny e.V. - ECPv6.15.17.1//NONSGML v1.0//EN
CALSCALE:GREGORIAN
METHOD:PUBLISH
X-ORIGINAL-URL:https://opentiny.de
X-WR-CALDESC:Veranstaltungen für Kiezkiosk Open Tiny e.V.
REFRESH-INTERVAL;VALUE=DURATION:PT1H
X-Robots-Tag:noindex
X-PUBLISHED-TTL:PT1H
BEGIN:VTIMEZONE
TZID:Europe/Berlin
BEGIN:DAYLIGHT
TZOFFSETFROM:+0100
TZOFFSETTO:+0200
TZNAME:CEST
DTSTART:20240331T010000
END:DAYLIGHT
BEGIN:STANDARD
TZOFFSETFROM:+0200
TZOFFSETTO:+0100
TZNAME:CET
DTSTART:20241027T010000
END:STANDARD
BEGIN:DAYLIGHT
TZOFFSETFROM:+0100
TZOFFSETTO:+0200
TZNAME:CEST
DTSTART:20250330T010000
END:DAYLIGHT
BEGIN:STANDARD
TZOFFSETFROM:+0200
TZOFFSETTO:+0100
TZNAME:CET
DTSTART:20251026T010000
END:STANDARD
BEGIN:DAYLIGHT
TZOFFSETFROM:+0100
TZOFFSETTO:+0200
TZNAME:CEST
DTSTART:20260329T010000
END:DAYLIGHT
BEGIN:STANDARD
TZOFFSETFROM:+0200
TZOFFSETTO:+0100
TZNAME:CET
DTSTART:20261025T010000
END:STANDARD
END:VTIMEZONE
BEGIN:VEVENT
DTSTART;TZID=Europe/Berlin:20250707T200000
DTEND;TZID=Europe/Berlin:20250707T210000
DTSTAMP:20260423T064344
CREATED:20250303T191042Z
LAST-MODIFIED:20250303T191523Z
UID:1637-1751918400-1751922000@opentiny.de
SUMMARY:Open Tiny Plenum
DESCRIPTION:Deutsch –  \nDu möchtest im Open Tiny deine Ideen mit der Nachbarschaft teilen? Komm vorbei\, erzähl uns von deinen Visionen und wir organisieren alles weitere zusammen …  \nDas Plenum findet immer am ersten Montag im Monat um 20 Uhr statt. Wir treffen uns im Open Tiny in der Treptower Straße 84. \nEnglisch –  \nDo you want to share your ideas with the neighbourhood? Please join our meeting\, tell us about your visions and we will organise everything together … \nOur “Plenum” takes place on every first Monday of the month at 8pm. We are meeting at Open Tiny in Treptower Straße 84.
URL:https://opentiny.de/event/open-tiny-plenum-36/
ATTACH;FMTTYPE=image/jpeg:https://opentiny.de/wp-content/uploads/2022/06/2022-06-07-21.12.20-scaled.jpg
END:VEVENT
BEGIN:VEVENT
DTSTART;TZID=Europe/Berlin:20250714T183000
DTEND;TZID=Europe/Berlin:20250714T220000
DTSTAMP:20260423T064344
CREATED:20250508T190042Z
LAST-MODIFIED:20250723T181141Z
UID:1663-1752517800-1752530400@opentiny.de
SUMMARY:Repair Café
DESCRIPTION:Repair Café im Kiezkiosk Open Tiny e.V. \nToaster\, Staubsauger\, Beamer\, Stereoanlage defekt?\nBitte nicht wegwerfen!! Wir geben Hilfe zur Selbsthilfe!\nGemeinsam versuchen wir\, deine kaputten Geräte zu reparieren\nElektro – Audio – Unterhaltungselektronik \nImmer am 2. Montag im Monat\n18:30-22:00
URL:https://opentiny.de/event/repair-cafe-34/
ATTACH;FMTTYPE=image/png:https://opentiny.de/wp-content/uploads/2023/01/Bildschirmfoto-2023-01-03-um-21.33.19-e1672778592145.png
END:VEVENT
BEGIN:VEVENT
DTSTART;VALUE=DATE:20250724
DTEND;VALUE=DATE:20250727
DTSTAMP:20260423T064344
CREATED:20250723T180757Z
LAST-MODIFIED:20250723T180757Z
UID:1679-1753315200-1753574399@opentiny.de
SUMMARY:Exhibition: Drawings
DESCRIPTION:
URL:https://opentiny.de/event/exhibition-drawings/
END:VEVENT
END:VCALENDAR