BEGIN:VCALENDAR
VERSION:2.0
PRODID:-//Kiezkiosk Open Tiny e.V. - ECPv6.15.17.1//NONSGML v1.0//EN
CALSCALE:GREGORIAN
METHOD:PUBLISH
X-WR-CALNAME:Kiezkiosk Open Tiny e.V.
X-ORIGINAL-URL:https://opentiny.de
X-WR-CALDESC:Veranstaltungen für Kiezkiosk Open Tiny e.V.
REFRESH-INTERVAL;VALUE=DURATION:PT1H
X-Robots-Tag:noindex
X-PUBLISHED-TTL:PT1H
BEGIN:VTIMEZONE
TZID:Europe/Berlin
BEGIN:DAYLIGHT
TZOFFSETFROM:+0100
TZOFFSETTO:+0200
TZNAME:CEST
DTSTART:20230326T010000
END:DAYLIGHT
BEGIN:STANDARD
TZOFFSETFROM:+0200
TZOFFSETTO:+0100
TZNAME:CET
DTSTART:20231029T010000
END:STANDARD
BEGIN:DAYLIGHT
TZOFFSETFROM:+0100
TZOFFSETTO:+0200
TZNAME:CEST
DTSTART:20240331T010000
END:DAYLIGHT
BEGIN:STANDARD
TZOFFSETFROM:+0200
TZOFFSETTO:+0100
TZNAME:CET
DTSTART:20241027T010000
END:STANDARD
BEGIN:DAYLIGHT
TZOFFSETFROM:+0100
TZOFFSETTO:+0200
TZNAME:CEST
DTSTART:20250330T010000
END:DAYLIGHT
BEGIN:STANDARD
TZOFFSETFROM:+0200
TZOFFSETTO:+0100
TZNAME:CET
DTSTART:20251026T010000
END:STANDARD
END:VTIMEZONE
BEGIN:VEVENT
DTSTART;TZID=Europe/Berlin:20240603T200000
DTEND;TZID=Europe/Berlin:20240603T210000
DTSTAMP:20260421T122315
CREATED:20240102T203758Z
LAST-MODIFIED:20240102T203758Z
UID:1240-1717444800-1717448400@opentiny.de
SUMMARY:Open Tiny Plenum
DESCRIPTION:Deutsch –  \nDu möchtest im Open Tiny deine Ideen mit der Nachbarschaft teilen? Komm vorbei\, erzähl uns von deinen Visionen und wir organisieren alles weitere zusammen …  \nDas Plenum findet ab 2023 immer am ersten Montag im Monat um 20 Uhr statt. Wir treffen uns im Open Tiny in der Treptower Straße 84. \nEnglisch –  \nDo you want to share your ideas with the neighbourhood? Please join our meeting\, tell us about your visions and we will organise everything together … \nIn 2023 our „Plenum“ takes place on every first Monday of the month at 8pm. We are meeting at Open Tiny in Treptower Straße 84.
URL:https://opentiny.de/event/open-tiny-plenum-24/
ATTACH;FMTTYPE=image/jpeg:https://opentiny.de/wp-content/uploads/2022/06/2022-06-07-21.12.20-scaled.jpg
END:VEVENT
BEGIN:VEVENT
DTSTART;TZID=Europe/Berlin:20240608T130000
DTEND;TZID=Europe/Berlin:20240608T160000
DTSTAMP:20260421T122315
CREATED:20240604T191652Z
LAST-MODIFIED:20240604T191746Z
UID:1426-1717851600-1717862400@opentiny.de
SUMMARY:Kleidertausch Party
DESCRIPTION:Wir laden wieder zum Kleidertauschen ein.\n\nBringt max. fünf alte\, aber gepflegte und lochfreie Schmuckstücke mit und tauscht sie gegen andere.\n\nWir freuen uns auf euch.
URL:https://opentiny.de/event/kleidertausch-party-2/
ATTACH;FMTTYPE=image/jpeg:https://opentiny.de/wp-content/uploads/2024/06/opentiny_kleidertausch_24-scaled.jpg
END:VEVENT
BEGIN:VEVENT
DTSTART;TZID=Europe/Berlin:20240610T183000
DTEND;TZID=Europe/Berlin:20240610T220000
DTSTAMP:20260421T122315
CREATED:20240511T070503Z
LAST-MODIFIED:20240511T070503Z
UID:1397-1718044200-1718056800@opentiny.de
SUMMARY:Repair Café
DESCRIPTION:Repair Café im Kiezkiosk Open Tiny e.V. \nToaster\, Staubsauger\, Beamer\, Stereoanlage defekt?\nBitte nicht wegwerfen!! Wir geben Hilfe zur Selbsthilfe!\nGemeinsam versuchen wir\, deine kaputten Geräte zu reparieren\nElektro – Audio – Unterhaltungselektronik \nImmer am 2. Montag im Monat\n18:30-22:00
URL:https://opentiny.de/event/repair-cafe-21/
ATTACH;FMTTYPE=image/png:https://opentiny.de/wp-content/uploads/2023/01/Bildschirmfoto-2023-01-03-um-21.33.19-e1672778592145.png
END:VEVENT
BEGIN:VEVENT
DTSTART;TZID=Europe/Berlin:20240615T140000
DTEND;TZID=Europe/Berlin:20240615T220000
DTSTAMP:20260421T122315
CREATED:20240524T201209Z
LAST-MODIFIED:20240524T201209Z
UID:1420-1718460000-1718488800@opentiny.de
SUMMARY:Open Tiny Records
DESCRIPTION:It is time for Open Tiny Records Day again! Come along and bring your old vinyl to sell or share! You can also go through ours\, we have plenty of records in many different genres! We also have DJs playing and often invite guests to play as well! Cold and warm drinks are also available on donation basis! See ya there ❤️ \n— \nEs ist wieder Zeit für den Open Tiny Records Day! Komm vorbei und bring deine alten Schallplatten zum Verkauf oder Tausch mit anderen! Du kannst auch in unserer Sammlung stöbern\, wir haben viele Platten in verschiedenen Genres! Es legen auch DJs auf die auflegen und kalte und warme Getränke sind ebenfalls gegen Spende erhältlich! Bis dann ❤️ \n  \nDieses mal kombinieren wir den Records Day mit einer Ausstellung von Nachbarin und Grafikdesignerin Maka Roman.
URL:https://opentiny.de/event/open-tiny-records-15/
ATTACH;FMTTYPE=image/jpeg:https://opentiny.de/wp-content/uploads/2024/05/2024-05-24-22.03.21-1.jpg
END:VEVENT
BEGIN:VEVENT
DTSTART;TZID=Europe/Berlin:20240623T140000
DTEND;TZID=Europe/Berlin:20240623T200000
DTSTAMP:20260421T122315
CREATED:20240615T092040Z
LAST-MODIFIED:20240615T092040Z
UID:1433-1719151200-1719172800@opentiny.de
SUMMARY:Sommerfete
DESCRIPTION:Kleine Sommerfete mit Musik\, Essen und Spielen
URL:https://opentiny.de/event/sommerfete/
END:VEVENT
BEGIN:VEVENT
DTSTART;TZID=Europe/Berlin:20240624T183000
DTEND;TZID=Europe/Berlin:20240624T210000
DTSTAMP:20260421T122315
CREATED:20240514T091828Z
LAST-MODIFIED:20240514T091828Z
UID:1410-1719253800-1719262800@opentiny.de
SUMMARY:COME TALK ART – Open Meetings for Artists and Art-Makers
DESCRIPTION:OPEN MEETINGS FOR ART-MAKERS OF ALL FORMS AND LEVELS \nEVERY LAST MONDAY OF THE MONTH\n18:30H \nARE YOU AN ARTIST\, COMPOSER\, WRITER\, CRITIC\, PERFORMER\, CURATOR OR ART AFICIONADXS?\nEVERY LAST MONDAY OF THE MONTH\, LILITU OFFERS A SPACE FOR ARTISTS AND INSIDERS OF ALL PRACTICES TO COME TOGETHER AND DISCUSS IDEAS.\nPROJECTS\, AND AMBITIONS. RECEIVE AND GIVE FEEDBACK TO OTHER ARTISTS\, START UNEXPECTED COLLABORATIONS\, AND FIND AN OPEN ARTISTIC COMMUNITY.\nWE BELIEVE IN THE CONVERSATIONAL ASPECT OF CREATIVITY AND THE HONEST AND RESPECTFUL EXCHANGE OF IDEAS AS A SOURCE OF INSPIRATION\, SO\, WHY DON’T YOU COME TALK YOUR ART?
URL:https://opentiny.de/event/come-talk-art-open-meetings-for-artists-and-art-makers-4/
ORGANIZER;CN="LILITU":MAILTO:lilitu.art@gmail.com
END:VEVENT
BEGIN:VEVENT
DTSTART;VALUE=DATE:20240628
DTEND;VALUE=DATE:20240701
DTSTAMP:20260421T122315
CREATED:20240615T092139Z
LAST-MODIFIED:20240615T092139Z
UID:1435-1719532800-1719791999@opentiny.de
SUMMARY:48h Neukölln mit Zine verschenken
DESCRIPTION:
URL:https://opentiny.de/event/48h-neukoelln-mit-zine-verschenken/
END:VEVENT
END:VCALENDAR