BEGIN:VCALENDAR
VERSION:2.0
PRODID:-//Kiezkiosk Open Tiny e.V. - ECPv6.15.17.1//NONSGML v1.0//EN
CALSCALE:GREGORIAN
METHOD:PUBLISH
X-WR-CALNAME:Kiezkiosk Open Tiny e.V.
X-ORIGINAL-URL:https://opentiny.de
X-WR-CALDESC:Veranstaltungen für Kiezkiosk Open Tiny e.V.
REFRESH-INTERVAL;VALUE=DURATION:PT1H
X-Robots-Tag:noindex
X-PUBLISHED-TTL:PT1H
BEGIN:VTIMEZONE
TZID:Europe/Berlin
BEGIN:DAYLIGHT
TZOFFSETFROM:+0100
TZOFFSETTO:+0200
TZNAME:CEST
DTSTART:20210328T010000
END:DAYLIGHT
BEGIN:STANDARD
TZOFFSETFROM:+0200
TZOFFSETTO:+0100
TZNAME:CET
DTSTART:20211031T010000
END:STANDARD
BEGIN:DAYLIGHT
TZOFFSETFROM:+0100
TZOFFSETTO:+0200
TZNAME:CEST
DTSTART:20220327T010000
END:DAYLIGHT
BEGIN:STANDARD
TZOFFSETFROM:+0200
TZOFFSETTO:+0100
TZNAME:CET
DTSTART:20221030T010000
END:STANDARD
BEGIN:DAYLIGHT
TZOFFSETFROM:+0100
TZOFFSETTO:+0200
TZNAME:CEST
DTSTART:20230326T010000
END:DAYLIGHT
BEGIN:STANDARD
TZOFFSETFROM:+0200
TZOFFSETTO:+0100
TZNAME:CET
DTSTART:20231029T010000
END:STANDARD
END:VTIMEZONE
BEGIN:VEVENT
DTSTART;TZID=Europe/Berlin:20220604T190000
DTEND;TZID=Europe/Berlin:20220611T200000
DTSTAMP:20260421T065312
CREATED:20220530T152604Z
LAST-MODIFIED:20220530T152604Z
UID:529-1654369200-1654977600@opentiny.de
SUMMARY:Ausstellung: warm\, soft & cold\, hard
DESCRIPTION:POP UP – Exhibition by EDIE. and Laura Darbutaitė \nOpening: June 4th at 7 PM\nClosing: June 11th at 8 PM \nOpen every day from June 5th to June 11th from 5 PM to 8 PM
URL:https://opentiny.de/event/ausstellung-warm-soft-cold-hard/
ATTACH;FMTTYPE=image/jpeg:https://opentiny.de/wp-content/uploads/2022/05/slide1.jpg
END:VEVENT
BEGIN:VEVENT
DTSTART;TZID=Europe/Berlin:20220607T200000
DTEND;TZID=Europe/Berlin:20220607T213000
DTSTAMP:20260421T065312
CREATED:20220330T072357Z
LAST-MODIFIED:20220330T072357Z
UID:505-1654632000-1654637400@opentiny.de
SUMMARY:Open Tiny Plenum
DESCRIPTION:Du möchtest im Open Tiny deine Ideen mit der Nachbarschaft teilen? Komm vorbei\, erzähl uns von deinen Visionen und wir organisieren alles weitere zusammen …  \nDas Plenum findet immer am ersten Dienstag im Monat statt. Wenn es die aktuelle Situation zulässt\, treffen wir uns bei uns im Open Tiny in der Treptower Straße 84.
URL:https://opentiny.de/event/open-tiny-plenum-4/
END:VEVENT
BEGIN:VEVENT
DTSTART;VALUE=DATE:20220624
DTEND;VALUE=DATE:20220701
DTSTAMP:20260421T065312
CREATED:20220608T191639Z
LAST-MODIFIED:20220623T164431Z
UID:548-1656028800-1656633599@opentiny.de
SUMMARY:Ausstellung: Das Lebenszimmer
DESCRIPTION:[for English please scroll down] \n  \nGeöffnet für nur 48h\, ist „Das Lebenszimmer“ das Symbol für die letzten 2 Jahre\, in denen wir alle im selben Boot saßen\, aber jeder von uns allein. Ein einfacher Raum wie das Wohnzimmer wurde zu unserem Lebenszimmer – der zentrale Ort\, an dem wir weinten\, lachten\, die Nerven verloren und Hoffnung schöpften. Wir begriffen\, wie frei wir zu diesem Zeitpunkt waren\, als uns die Normalität genommen wurde. Die äußeren Umstände zwangen uns\, uns zu verwandeln\, und aus Emotionen und Reflexionen entstand etwas Neues: festgehalten in Zeichnungen\, Fotografien\, Gemälden und ortsspezifischen Installationen. \nEröffnung: 24. Juni\, ab 19h \nÖffnungszeiten: 24. Juni\, 19 Uhr – 26. Juni\, 19 Uhr \nTeil des 48h Neukölln Festival \n  \nOpened for only 48h\, Das Lebenzimmer is the symbol of the last 2 years where we were all in the same boat\, but each of us alone. A simple room such as the living room\, became our Lebenszimmer – the central place where we cried\, laughed\, lost our nerves and gained hope. We understood how free we were at that point when normality was taken away from us. The external circumstances forced us to transform and from emotions and reflections\, something new was born: captured in drawings\, photographs\, paintings and site specific installations. \nOpening: 24 June\, from 19h \nOpening hours: 24 June\, 7p.m. -26 June\, 7p.m. \nPart of 48h Neukölln festival
URL:https://opentiny.de/event/ausstellung-das-lebenszimmer/
ATTACH;FMTTYPE=image/png:https://opentiny.de/wp-content/uploads/2022/06/1.png
END:VEVENT
END:VCALENDAR