BEGIN:VCALENDAR
VERSION:2.0
PRODID:-//Kiezkiosk Open Tiny e.V. - ECPv6.15.17.1//NONSGML v1.0//EN
CALSCALE:GREGORIAN
METHOD:PUBLISH
X-WR-CALNAME:Kiezkiosk Open Tiny e.V.
X-ORIGINAL-URL:https://opentiny.de
X-WR-CALDESC:Veranstaltungen für Kiezkiosk Open Tiny e.V.
REFRESH-INTERVAL;VALUE=DURATION:PT1H
X-Robots-Tag:noindex
X-PUBLISHED-TTL:PT1H
BEGIN:VTIMEZONE
TZID:Europe/Berlin
BEGIN:DAYLIGHT
TZOFFSETFROM:+0100
TZOFFSETTO:+0200
TZNAME:CEST
DTSTART:20210328T010000
END:DAYLIGHT
BEGIN:STANDARD
TZOFFSETFROM:+0200
TZOFFSETTO:+0100
TZNAME:CET
DTSTART:20211031T010000
END:STANDARD
BEGIN:DAYLIGHT
TZOFFSETFROM:+0100
TZOFFSETTO:+0200
TZNAME:CEST
DTSTART:20220327T010000
END:DAYLIGHT
BEGIN:STANDARD
TZOFFSETFROM:+0200
TZOFFSETTO:+0100
TZNAME:CET
DTSTART:20221030T010000
END:STANDARD
BEGIN:DAYLIGHT
TZOFFSETFROM:+0100
TZOFFSETTO:+0200
TZNAME:CEST
DTSTART:20230326T010000
END:DAYLIGHT
BEGIN:STANDARD
TZOFFSETFROM:+0200
TZOFFSETTO:+0100
TZNAME:CET
DTSTART:20231029T010000
END:STANDARD
END:VTIMEZONE
BEGIN:VEVENT
DTSTART;VALUE=DATE:20220402
DTEND;VALUE=DATE:20220403
DTSTAMP:20260422T122641
CREATED:20220322T165734Z
LAST-MODIFIED:20220322T165734Z
UID:491-1648857600-1648943999@opentiny.de
SUMMARY:Raiders — Vol. 1 Remixed
DESCRIPTION:Das Berliner Partykollektiv und Label Raiders Records steht für schnelle Beats\, kompromisslosen Bass und zwinkernde Augen in Berlins todernsten Techno-Dimensionen. Am 02.04. feiert die Crew die Veröffentlichung ihrer neuen Compilation “Vol. 1 Remixed” auf graviertem USB-Stick im Open Tiny. Dieses Release versammelt einige alte und neue Freunde des Kollektivs unter einem einfachen Ziel: Die Musik auf dem ersten Release des Labels\, “Ghettoraid Vol. 1″ neu zu erdenken und dann mit Bonus-Content\, liebevoller Verpackung und Remix-Utensilien auf einen USB-Stick zu kopieren\, welcher dann vor Ort zu kaufen ist.Gefeiert wird das ganze unüblicherweise komplett schweißfrei abseits von Dancefloors und Tinitus mit einem gemütlichen Zusammenkommen von Freunden und Familie! Dabei gibt es Musik\, Snacks und ein paar kalte Getränke mitten auf der Treptower Straße.
URL:https://opentiny.de/event/raiders-vol-1-remixed/
ATTACH;FMTTYPE=image/png:https://opentiny.de/wp-content/uploads/2022/03/Artwork.png
END:VEVENT
BEGIN:VEVENT
DTSTART;TZID=Europe/Berlin:20220405T200000
DTEND;TZID=Europe/Berlin:20220405T213000
DTSTAMP:20260422T122641
CREATED:20220330T071704Z
LAST-MODIFIED:20220330T072052Z
UID:498-1649188800-1649194200@opentiny.de
SUMMARY:Open Tiny Plenum
DESCRIPTION:Du möchtest im Open Tiny deine Ideen mit der Nachbarschaft teilen? Komm vorbei\, erzähl uns von deinen Visionen und wir organisieren alles weitere zusammen …  \nDas Plenum findet immer am ersten Dienstag im Monat statt. Wenn es die aktuelle Situation zulässt\, treffen wir uns bei uns im Open Tiny in der Treptower Straße 84.
URL:https://opentiny.de/event/offenes-plenum/
END:VEVENT
BEGIN:VEVENT
DTSTART;TZID=Europe/Berlin:20220409T140000
DTEND;TZID=Europe/Berlin:20220409T190000
DTSTAMP:20260422T122641
CREATED:20220322T165245Z
LAST-MODIFIED:20220322T165245Z
UID:488-1649512800-1649530800@opentiny.de
SUMMARY:Open Tiny Records
DESCRIPTION:We are having the Open Tiny Records Day again! We’ll play music and you can dig through our second hand vinyl and take some home if you find something that you like! You can also bring your old records in case you have some you want to get rid! See you there ☀️🎶🎧
URL:https://opentiny.de/event/open-tiny-records-6/
ATTACH;FMTTYPE=image/jpeg:https://opentiny.de/wp-content/uploads/2022/03/2022-03-OT-Records.jpg
END:VEVENT
BEGIN:VEVENT
DTSTART;TZID=Europe/Berlin:20220421T140000
DTEND;TZID=Europe/Berlin:20220422T193000
DTSTAMP:20260422T122641
CREATED:20220415T200827Z
LAST-MODIFIED:20220415T200827Z
UID:516-1650549600-1650655800@opentiny.de
SUMMARY:Ausstellung: Antibodies
DESCRIPTION:ANTIBODIES aims to address the struggle of the collective and the individual body. The five hybrids are a visual discussion about the relationship between trauma and disorder\, suffering and adaptation. lmplementingi inorganic organisation of silhouettes\, the body is more animal and more human than ever. The series of creatures aim at enhancing our understanding to that which is invisible but inevitable. \nBridging between the digital and physical\, organic and inorganic\, my aim was to create a mixed reality that cultivated a multi­sensorial installation. \nHow does trauma shape the soma? How does mental\, physical\, or verbal abuse\, war\, and embryonic disturbances affect us? Smell\, sound\, physicality\, and texture – the visitor can enter a dystopian environment that encapsulates these questions. Designing a series of hybrid species is a mean to establish a visual interpretation with the underlying investigation.
URL:https://opentiny.de/event/ausstellung-antibodies/
ATTACH;FMTTYPE=image/jpeg:https://opentiny.de/wp-content/uploads/2022/04/FLYER_ANTI-scaled.jpg
END:VEVENT
BEGIN:VEVENT
DTSTART;TZID=Europe/Berlin:20220424T180000
DTEND;TZID=Europe/Berlin:20220424T203000
DTSTAMP:20260422T122641
CREATED:20220414T132321Z
LAST-MODIFIED:20220414T132321Z
UID:512-1650823200-1650832200@opentiny.de
SUMMARY:Deutschabend
DESCRIPTION:An diesem Treffen sprechen wir über die Sprache. Dieses Mal möchten wir der Frage nachgehen\, was Mehrsprachigkeit für uns bedeutet und über die Vor- und Nachteile sprechen\, die der Gebrauch mehrerer Sprachen im Alltag mit sich bringt. Die Veranstaltung richtet sich an Deutschlerner*innen\, die nach Gelegenheiten suchen\, Deutsch außerhalb eines Klassenzimmers zu sprechen.\nB1(+) Deutsch vorausgesetzt.\n\n\nIn this event we are going to talk about language. This time we want to consider the question of what multilingualism means for us and have a talk about the (dis)advantages of using more than one language in our everyday life. The event is addressed to German learners who are looking for occasions to speak German outside of a classroom.\nB1(+) German assumed.
URL:https://opentiny.de/event/deutschabend/
END:VEVENT
BEGIN:VEVENT
DTSTART;TZID=Europe/Berlin:20220430T180000
DTEND;TZID=Europe/Berlin:20220430T200000
DTSTAMP:20260422T122641
CREATED:20220427T175237Z
LAST-MODIFIED:20220427T175237Z
UID:521-1651341600-1651348800@opentiny.de
SUMMARY:Performance: No Contact
DESCRIPTION:🎶 Live Sound Performance von Ray Poon und Carl OG 🎷
URL:https://opentiny.de/event/performance-no-contact/
ATTACH;FMTTYPE=image/jpeg:https://opentiny.de/wp-content/uploads/2022/04/E6AC089C-435D-43F2-B17E-A6F7803B0A17.jpg
END:VEVENT
END:VCALENDAR