BEGIN:VCALENDAR
VERSION:2.0
PRODID:-//Kiezkiosk Open Tiny e.V. - ECPv6.15.17.1//NONSGML v1.0//EN
CALSCALE:GREGORIAN
METHOD:PUBLISH
X-WR-CALNAME:Kiezkiosk Open Tiny e.V.
X-ORIGINAL-URL:https://opentiny.de
X-WR-CALDESC:Veranstaltungen für Kiezkiosk Open Tiny e.V.
REFRESH-INTERVAL;VALUE=DURATION:PT1H
X-Robots-Tag:noindex
X-PUBLISHED-TTL:PT1H
BEGIN:VTIMEZONE
TZID:Europe/Berlin
BEGIN:DAYLIGHT
TZOFFSETFROM:+0100
TZOFFSETTO:+0200
TZNAME:CEST
DTSTART:20210328T010000
END:DAYLIGHT
BEGIN:STANDARD
TZOFFSETFROM:+0200
TZOFFSETTO:+0100
TZNAME:CET
DTSTART:20211031T010000
END:STANDARD
BEGIN:DAYLIGHT
TZOFFSETFROM:+0100
TZOFFSETTO:+0200
TZNAME:CEST
DTSTART:20220327T010000
END:DAYLIGHT
BEGIN:STANDARD
TZOFFSETFROM:+0200
TZOFFSETTO:+0100
TZNAME:CET
DTSTART:20221030T010000
END:STANDARD
BEGIN:DAYLIGHT
TZOFFSETFROM:+0100
TZOFFSETTO:+0200
TZNAME:CEST
DTSTART:20230326T010000
END:DAYLIGHT
BEGIN:STANDARD
TZOFFSETFROM:+0200
TZOFFSETTO:+0100
TZNAME:CET
DTSTART:20231029T010000
END:STANDARD
END:VTIMEZONE
BEGIN:VEVENT
DTSTART;TZID=Europe/Berlin:20220327T140000
DTEND;TZID=Europe/Berlin:20220327T190000
DTSTAMP:20260422T135110
CREATED:20220317T184159Z
LAST-MODIFIED:20220326T103410Z
UID:483-1648389600-1648407600@opentiny.de
SUMMARY:Ausstellung: Vergissmichnicht
DESCRIPTION:Jedes Jahr aufs Neue\, sobald die schönen Tage zurückkehren\, eilst du los\,\num Samen zu kaufen – Vergissmeinnicht\, Nelken\, Kapuzinerkresse\, …\nDabei fehlt die Gewissweit\, ob diese jemals erblühen werden.\nDie Blumen vom letzten Jahr – ohne viel Beachtung weggeworfen.\nSchlechte Ernte. \nPflanzen kann man säen\, so wie man Wohlwollen ausät.\nMerke: Schlechte Samen sind unerwünscht in unserer Gesellschaft.\nAber woher soll man wissen\, ob es gute Samen sind?\nWürdest du dein eigenes Kind entsorgen\, weil du ahnst\, dass es keine\ngute Ernte bringen wird…?\nNun\, das werden wir nächstes Jahr sehen und bis dahin streng dich an.\nEs kommt ganz auf dich an\, nur auf dich.\nIn der Zwischenzeit denk nur immer daran\, den Müll runter zu bringen.\nPlastik in die Gelbe Tonne.\nPappe ins Altpapier.\nUnd deine Träume in den Restmüll.\n… Aber meine Träume… sie sind viel zu groß \, um in die Mülltonne zu\npassen. \nEine Ausstellung von Patxi Berg
URL:https://opentiny.de/event/ausstellung/
ATTACH;FMTTYPE=image/jpeg:https://opentiny.de/wp-content/uploads/2022/03/image0-scaled.jpeg
END:VEVENT
END:VCALENDAR