BEGIN:VCALENDAR
VERSION:2.0
PRODID:-//Kiezkiosk Open Tiny e.V. - ECPv6.15.17.1//NONSGML v1.0//EN
CALSCALE:GREGORIAN
METHOD:PUBLISH
X-WR-CALNAME:Kiezkiosk Open Tiny e.V.
X-ORIGINAL-URL:https://opentiny.de
X-WR-CALDESC:Veranstaltungen für Kiezkiosk Open Tiny e.V.
REFRESH-INTERVAL;VALUE=DURATION:PT1H
X-Robots-Tag:noindex
X-PUBLISHED-TTL:PT1H
BEGIN:VTIMEZONE
TZID:Europe/Berlin
BEGIN:DAYLIGHT
TZOFFSETFROM:+0100
TZOFFSETTO:+0200
TZNAME:CEST
DTSTART:20200329T010000
END:DAYLIGHT
BEGIN:STANDARD
TZOFFSETFROM:+0200
TZOFFSETTO:+0100
TZNAME:CET
DTSTART:20201025T010000
END:STANDARD
BEGIN:DAYLIGHT
TZOFFSETFROM:+0100
TZOFFSETTO:+0200
TZNAME:CEST
DTSTART:20210328T010000
END:DAYLIGHT
BEGIN:STANDARD
TZOFFSETFROM:+0200
TZOFFSETTO:+0100
TZNAME:CET
DTSTART:20211031T010000
END:STANDARD
BEGIN:DAYLIGHT
TZOFFSETFROM:+0100
TZOFFSETTO:+0200
TZNAME:CEST
DTSTART:20220327T010000
END:DAYLIGHT
BEGIN:STANDARD
TZOFFSETFROM:+0200
TZOFFSETTO:+0100
TZNAME:CET
DTSTART:20221030T010000
END:STANDARD
END:VTIMEZONE
BEGIN:VEVENT
DTSTART;TZID=Europe/Berlin:20210509T130000
DTEND;TZID=Europe/Berlin:20210509T170000
DTSTAMP:20260421T134432
CREATED:20210506T210054Z
LAST-MODIFIED:20210506T211913Z
UID:339-1620565200-1620579600@opentiny.de
SUMMARY:vegan cake + cookie to go
DESCRIPTION:Schau vorbei beim Wochenende-Spaziergang und sicher dir frischgebackene vegane Leckereien gegen Spende! Du findest uns direkt neben der Bushaltestelle Werrastraße. Take your weekend walk to our kiosk and get some freshly baked vegan sweets! Find us next to the busstop Werrastraße. See you! \n 
URL:https://opentiny.de/event/vegan-cake-cookie-to-go-4/
ATTACH;FMTTYPE=image/jpeg:https://opentiny.de/wp-content/uploads/2021/05/OT_cookiestartes_IG-feed-8-1.jpg
END:VEVENT
BEGIN:VEVENT
DTSTART;TZID=Europe/Berlin:20210530T130000
DTEND;TZID=Europe/Berlin:20210530T170000
DTSTAMP:20260421T134432
CREATED:20210528T172526Z
LAST-MODIFIED:20210528T172529Z
UID:347-1622379600-1622394000@opentiny.de
SUMMARY:Kuchen + Krempel
DESCRIPTION:Diesen Sonntag gibts nicht nur leckeren Kuchen sondern auch viele feine Utensilien zum mitnehmen die von unseren Renovierungsarbeiten übrig geblieben sind! Komm vorbei und schau ob was für dich dabei ist oder futter dich einfach durch die Kuchen! This sunday we will not only offer you yummy cakes\, we also put out leftover materials and supplies from our renovation work! Come by and take a look.
URL:https://opentiny.de/event/kuchen-krempel/
ATTACH;FMTTYPE=image/jpeg:https://opentiny.de/wp-content/uploads/2021/05/OT_Kuchen_Krempel_IG-feed.jpg
END:VEVENT
END:VCALENDAR