BEGIN:VCALENDAR
VERSION:2.0
PRODID:-//Kiezkiosk Open Tiny e.V. - ECPv6.15.17.1//NONSGML v1.0//EN
CALSCALE:GREGORIAN
METHOD:PUBLISH
X-WR-CALNAME:Kiezkiosk Open Tiny e.V.
X-ORIGINAL-URL:https://opentiny.de
X-WR-CALDESC:Veranstaltungen für Kiezkiosk Open Tiny e.V.
REFRESH-INTERVAL;VALUE=DURATION:PT1H
X-Robots-Tag:noindex
X-PUBLISHED-TTL:PT1H
BEGIN:VTIMEZONE
TZID:Europe/Berlin
BEGIN:DAYLIGHT
TZOFFSETFROM:+0100
TZOFFSETTO:+0200
TZNAME:CEST
DTSTART:20200329T010000
END:DAYLIGHT
BEGIN:STANDARD
TZOFFSETFROM:+0200
TZOFFSETTO:+0100
TZNAME:CET
DTSTART:20201025T010000
END:STANDARD
BEGIN:DAYLIGHT
TZOFFSETFROM:+0100
TZOFFSETTO:+0200
TZNAME:CEST
DTSTART:20210328T010000
END:DAYLIGHT
BEGIN:STANDARD
TZOFFSETFROM:+0200
TZOFFSETTO:+0100
TZNAME:CET
DTSTART:20211031T010000
END:STANDARD
BEGIN:DAYLIGHT
TZOFFSETFROM:+0100
TZOFFSETTO:+0200
TZNAME:CEST
DTSTART:20220327T010000
END:DAYLIGHT
BEGIN:STANDARD
TZOFFSETFROM:+0200
TZOFFSETTO:+0100
TZNAME:CET
DTSTART:20221030T010000
END:STANDARD
END:VTIMEZONE
BEGIN:VEVENT
DTSTART;TZID=Europe/Berlin:20210411T130000
DTEND;TZID=Europe/Berlin:20210411T170000
DTSTAMP:20260421T151255
CREATED:20210405T163526Z
LAST-MODIFIED:20210405T163526Z
UID:318-1618146000-1618160400@opentiny.de
SUMMARY:vegan cake + cookie to go
DESCRIPTION:Schau vorbei beim Wochenende-Spaziergang und sicher dir frischgebackene vegane Leckereien gegen Spende! Du findest uns direkt neben der Bushaltestelle Werrastraße. Take your weekend walk to our kiosk and get some freshly baked vegan sweets! Find us next to the busstop Werrastraße. See you! \n 
URL:https://opentiny.de/event/vegan-cake-cookie-to-go-2/
END:VEVENT
BEGIN:VEVENT
DTSTART;TZID=Europe/Berlin:20210425T130000
DTEND;TZID=Europe/Berlin:20210425T170000
DTSTAMP:20260421T151255
CREATED:20210405T164545Z
LAST-MODIFIED:20210424T104249Z
UID:323-1619355600-1619370000@opentiny.de
SUMMARY:sandwiches to go
DESCRIPTION:Schau vorbei beim Wochenende-Spaziergang und sicher dir vegetarische und vegane Sandwiches gegen Spende! Du findest uns direkt neben der Bushaltestelle Werrastraße. Take your weekend walk to our kiosk and get some freshly made vegetarian and vegan sandwiches! Find us next to the busstop Werrastraße. See you! \n 
URL:https://opentiny.de/event/vegan-cake-cookie-to-go-3/
ATTACH;FMTTYPE=image/jpeg:https://opentiny.de/wp-content/uploads/2021/04/OT_cookiestartes_IG-feed-7.jpg
END:VEVENT
END:VCALENDAR