BEGIN:VCALENDAR
VERSION:2.0
PRODID:-//Kiezkiosk Open Tiny e.V. - ECPv6.15.17.1//NONSGML v1.0//EN
CALSCALE:GREGORIAN
METHOD:PUBLISH
X-ORIGINAL-URL:https://opentiny.de
X-WR-CALDESC:Veranstaltungen für Kiezkiosk Open Tiny e.V.
REFRESH-INTERVAL;VALUE=DURATION:PT1H
X-Robots-Tag:noindex
X-PUBLISHED-TTL:PT1H
BEGIN:VTIMEZONE
TZID:Europe/Berlin
BEGIN:DAYLIGHT
TZOFFSETFROM:+0100
TZOFFSETTO:+0200
TZNAME:CEST
DTSTART:20200329T010000
END:DAYLIGHT
BEGIN:STANDARD
TZOFFSETFROM:+0200
TZOFFSETTO:+0100
TZNAME:CET
DTSTART:20201025T010000
END:STANDARD
BEGIN:DAYLIGHT
TZOFFSETFROM:+0100
TZOFFSETTO:+0200
TZNAME:CEST
DTSTART:20210328T010000
END:DAYLIGHT
BEGIN:STANDARD
TZOFFSETFROM:+0200
TZOFFSETTO:+0100
TZNAME:CET
DTSTART:20211031T010000
END:STANDARD
BEGIN:DAYLIGHT
TZOFFSETFROM:+0100
TZOFFSETTO:+0200
TZNAME:CEST
DTSTART:20220327T010000
END:DAYLIGHT
BEGIN:STANDARD
TZOFFSETFROM:+0200
TZOFFSETTO:+0100
TZNAME:CET
DTSTART:20221030T010000
END:STANDARD
END:VTIMEZONE
BEGIN:VEVENT
DTSTART;TZID=Europe/Berlin:20210210T150000
DTEND;TZID=Europe/Berlin:20210210T180000
DTSTAMP:20260425T143112
CREATED:20210208T193705Z
LAST-MODIFIED:20210208T193750Z
UID:231-1612969200-1612980000@opentiny.de
SUMMARY:Snack      Attack
DESCRIPTION:Snack Attack ist ein kleines Küchenkollektiv\, das 2017 entstanden ist\, politische Aktionen unterstützt\, bekocht und in Neukölln Küfas organisiert. Seit 2020 betreibt Snack Attack u.a. eine mobile Küfa auf dem Tempelhofer Feld. Außerdem wird wöchentlich eine Obdachlosen-Küfa zum Ost-Kreuz an die Obdachlosenplatte gefahren. Diese Platte wurde letzte Woche Freitag geräumt. Kommt vorbei\, holt euch etwas leckeres zu essen\, informiert euch zur Räumung und unterstützt Snack Attack bei weiteren Aktionen. 
URL:https://opentiny.de/event/snack-attack/
END:VEVENT
BEGIN:VEVENT
DTSTART;TZID=Europe/Berlin:20210214T130000
DTEND;TZID=Europe/Berlin:20210214T160000
DTSTAMP:20260425T143112
CREATED:20210209T181428Z
LAST-MODIFIED:20210212T095143Z
UID:249-1613307600-1613318400@opentiny.de
SUMMARY:Kuchen = Liebe
DESCRIPTION:Versüße dir deinen Valentinstag und sicher dir frischgebackene vegane Leckereien gegen Spende! Du findest uns direkt neben der Bushaltestelle Werrastraße. Celebrate valentinsday and stop by to get some freshly baked vegan sweets! Find us next to the busstop Werrastraße. See you!
URL:https://opentiny.de/event/kuchen-liebe/
END:VEVENT
BEGIN:VEVENT
DTSTART;TZID=Europe/Berlin:20210228T130000
DTEND;TZID=Europe/Berlin:20210228T160000
DTSTAMP:20260425T143112
CREATED:20210224T220442Z
LAST-MODIFIED:20210224T220442Z
UID:291-1614517200-1614528000@opentiny.de
SUMMARY:Vegan Cakes & Cookies to go
DESCRIPTION:Schau vorbei beim Wochenende-Spaziergang und sicher dir frischgebackene vegane Leckereien gegen Spende! Du findest uns direkt neben der Bushaltestelle Werrastraße. Take your weekend walk to our kiosk and get some freshly baked vegan sweets! Find us next to the busstop Werrastraße. See you! \n 
URL:https://opentiny.de/event/vegan-cakes-cookies-to-go-2/
ATTACH;FMTTYPE=image/jpeg:https://opentiny.de/wp-content/uploads/2021/02/OT_cookiestartes_IG-feed-3.jpg
END:VEVENT
END:VCALENDAR