BEGIN:VCALENDAR
VERSION:2.0
PRODID:-//Kiezkiosk Open Tiny e.V. - ECPv6.15.17.1//NONSGML v1.0//EN
CALSCALE:GREGORIAN
METHOD:PUBLISH
X-WR-CALNAME:Kiezkiosk Open Tiny e.V.
X-ORIGINAL-URL:https://opentiny.de
X-WR-CALDESC:Veranstaltungen für Kiezkiosk Open Tiny e.V.
REFRESH-INTERVAL;VALUE=DURATION:PT1H
X-Robots-Tag:noindex
X-PUBLISHED-TTL:PT1H
BEGIN:VTIMEZONE
TZID:Europe/Berlin
BEGIN:DAYLIGHT
TZOFFSETFROM:+0100
TZOFFSETTO:+0200
TZNAME:CEST
DTSTART:20200329T010000
END:DAYLIGHT
BEGIN:STANDARD
TZOFFSETFROM:+0200
TZOFFSETTO:+0100
TZNAME:CET
DTSTART:20201025T010000
END:STANDARD
BEGIN:DAYLIGHT
TZOFFSETFROM:+0100
TZOFFSETTO:+0200
TZNAME:CEST
DTSTART:20210328T010000
END:DAYLIGHT
BEGIN:STANDARD
TZOFFSETFROM:+0200
TZOFFSETTO:+0100
TZNAME:CET
DTSTART:20211031T010000
END:STANDARD
BEGIN:DAYLIGHT
TZOFFSETFROM:+0100
TZOFFSETTO:+0200
TZNAME:CEST
DTSTART:20220327T010000
END:DAYLIGHT
BEGIN:STANDARD
TZOFFSETFROM:+0200
TZOFFSETTO:+0100
TZNAME:CET
DTSTART:20221030T010000
END:STANDARD
END:VTIMEZONE
BEGIN:VEVENT
DTSTART;TZID=Europe/Berlin:20210123T120000
DTEND;TZID=Europe/Berlin:20210123T150000
DTSTAMP:20260425T161042
CREATED:20201219T170737Z
LAST-MODIFIED:20210122T130456Z
UID:135-1611403200-1611414000@opentiny.de
SUMMARY:Cookies & Tartes to go
DESCRIPTION:Schau vorbei beim Wochenende-Spaziergang und sicher dir frischgebackene Leckereien gegen Spende von unserer Lieblingsbäckerin Svaenska! Du findest uns direkt neben der Bushaltestelle Werrastraße. Take your weekend walk to our kiosk and get some freshly baked sweets! Find us next to the busstop Werrastraße. See you!
URL:https://opentiny.de/event/yoga-mit-kerstin/
CATEGORIES:Testkategorie
END:VEVENT
BEGIN:VEVENT
DTSTART;TZID=Europe/Berlin:20210131T130000
DTEND;TZID=Europe/Berlin:20210131T160000
DTSTAMP:20260425T161042
CREATED:20210129T085745Z
LAST-MODIFIED:20210129T085745Z
UID:183-1612098000-1612108800@opentiny.de
SUMMARY:Vegan Cakes & Cookies to go
DESCRIPTION:Schau vorbei beim Wochenende-Spaziergang und sicher dir frischgebackene vegane Leckereien gegen Spende! Du findest uns direkt neben der Bushaltestelle Werrastraße. Take your weekend walk to our kiosk and get some freshly baked vegan sweets! Find us next to the busstop Werrastraße. See you!
URL:https://opentiny.de/event/vegan-cakes-cookies-to-go/
END:VEVENT
END:VCALENDAR