BEGIN:VCALENDAR
VERSION:2.0
PRODID:-//Kiezkiosk Open Tiny e.V. - ECPv6.15.17.1//NONSGML v1.0//EN
CALSCALE:GREGORIAN
METHOD:PUBLISH
X-WR-CALNAME:Kiezkiosk Open Tiny e.V.
X-ORIGINAL-URL:https://opentiny.de
X-WR-CALDESC:Veranstaltungen für Kiezkiosk Open Tiny e.V.
REFRESH-INTERVAL;VALUE=DURATION:PT1H
X-Robots-Tag:noindex
X-PUBLISHED-TTL:PT1H
BEGIN:VTIMEZONE
TZID:Europe/Berlin
BEGIN:DAYLIGHT
TZOFFSETFROM:+0100
TZOFFSETTO:+0200
TZNAME:CEST
DTSTART:20250330T010000
END:DAYLIGHT
BEGIN:STANDARD
TZOFFSETFROM:+0200
TZOFFSETTO:+0100
TZNAME:CET
DTSTART:20251026T010000
END:STANDARD
BEGIN:DAYLIGHT
TZOFFSETFROM:+0100
TZOFFSETTO:+0200
TZNAME:CEST
DTSTART:20260329T010000
END:DAYLIGHT
BEGIN:STANDARD
TZOFFSETFROM:+0200
TZOFFSETTO:+0100
TZNAME:CET
DTSTART:20261025T010000
END:STANDARD
BEGIN:DAYLIGHT
TZOFFSETFROM:+0100
TZOFFSETTO:+0200
TZNAME:CEST
DTSTART:20270328T010000
END:DAYLIGHT
BEGIN:STANDARD
TZOFFSETFROM:+0200
TZOFFSETTO:+0100
TZNAME:CET
DTSTART:20271031T010000
END:STANDARD
END:VTIMEZONE
BEGIN:VEVENT
DTSTART;VALUE=DATE:20260703
DTEND;VALUE=DATE:20260706
DTSTAMP:20260426T034044
CREATED:20260413T144821Z
LAST-MODIFIED:20260413T144912Z
UID:2020-1783036800-1783295999@opentiny.de
SUMMARY:48h Neukölln
DESCRIPTION:Im Open Tiny seht ihr zu 48h Neukölln in diesem Jahr die Performance „Weiche Territorien: Topographien der Haut“. \nAußerdem sind wir der Startpunkt für „Anekdotische Stadtführungen“. \nWeitere Infos folgen\, sobald das Programm des Festivals online ist!
URL:https://opentiny.de/event/48h-neukoelln/
END:VEVENT
BEGIN:VEVENT
DTSTART;TZID=Europe/Berlin:20260705T160000
DTEND;TZID=Europe/Berlin:20260705T210000
DTSTAMP:20260426T034044
CREATED:20260313T112726Z
LAST-MODIFIED:20260313T112726Z
UID:1835-1783267200-1783285200@opentiny.de
SUMMARY:Board Game Night
DESCRIPTION:Brettspiele im Open Tiny. Grundausstattung vorhanden – eigene Spiele willkommen!
URL:https://opentiny.de/event/board-game-night-5/
END:VEVENT
BEGIN:VEVENT
DTSTART;TZID=Europe/Berlin:20260706T200000
DTEND;TZID=Europe/Berlin:20260706T210000
DTSTAMP:20260426T034044
CREATED:20260313T115347Z
LAST-MODIFIED:20260313T115347Z
UID:1876-1783368000-1783371600@opentiny.de
SUMMARY:Open Tiny ° Open Door
DESCRIPTION:Jeden ersten Montag im Monat öffnen wir unsere Türen für Interessierte. Möchtest du ein Projekt im Open Tiny machen? Möchtest du Mitglied im Verein werden? Oder einfach mal sehen was wir so machen? Dann komm vorbei! Gerne mit Anmeldung via Email.
URL:https://opentiny.de/event/open-tiny-open-door-6/
END:VEVENT
BEGIN:VEVENT
DTSTART;TZID=Europe/Berlin:20260707T190000
DTEND;TZID=Europe/Berlin:20260707T220000
DTSTAMP:20260426T034044
CREATED:20260313T115347Z
LAST-MODIFIED:20260313T115347Z
UID:1877-1783450800-1783461600@opentiny.de
SUMMARY:Karaoke
DESCRIPTION:Komm zum Singen im Open Tiny! Dienstags 19:00-22:00
URL:https://opentiny.de/event/karaoke-23/
END:VEVENT
BEGIN:VEVENT
DTSTART;TZID=Europe/Berlin:20260713T183000
DTEND;TZID=Europe/Berlin:20260713T210000
DTSTAMP:20260426T034044
CREATED:20260313T115347Z
LAST-MODIFIED:20260313T115347Z
UID:1878-1783967400-1783976400@opentiny.de
SUMMARY:Repair Café
DESCRIPTION:Toaster\, Staubsauger\, Beamer\, Stereoanlage defekt? Bitte nicht wegwerfen!! Wir geben Hilfe zur Selbsthilfe! Gemeinsam versuchen wir\, deine kaputten Geräte zu reparieren. Elektro – Audio – Unterhaltungselektronik. Komm vorbei\, keine Anmeldung nötig! Immer am 2. Montag im Monat
URL:https://opentiny.de/event/repair-cafe-47/
END:VEVENT
BEGIN:VEVENT
DTSTART;TZID=Europe/Berlin:20260714T190000
DTEND;TZID=Europe/Berlin:20260714T220000
DTSTAMP:20260426T034044
CREATED:20260313T115347Z
LAST-MODIFIED:20260313T115347Z
UID:1879-1784055600-1784066400@opentiny.de
SUMMARY:Karaoke
DESCRIPTION:Komm zum Singen im Open Tiny! Dienstags 19:00-22:00
URL:https://opentiny.de/event/karaoke-24/
END:VEVENT
BEGIN:VEVENT
DTSTART;VALUE=DATE:20260718
DTEND;VALUE=DATE:20260719
DTSTAMP:20260426T034044
CREATED:20260421T063804Z
LAST-MODIFIED:20260421T063804Z
UID:2032-1784332800-1784419199@opentiny.de
SUMMARY:Un Sabato Siciliano
DESCRIPTION:UN SABATO SICILIANO: Ein sizilianischer Samstag mit Musik\, Essen und Kultur!
URL:https://opentiny.de/event/un-sabato-siciliano/
END:VEVENT
BEGIN:VEVENT
DTSTART;TZID=Europe/Berlin:20260721T190000
DTEND;TZID=Europe/Berlin:20260721T220000
DTSTAMP:20260426T034044
CREATED:20260313T115347Z
LAST-MODIFIED:20260313T115347Z
UID:1880-1784660400-1784671200@opentiny.de
SUMMARY:Karaoke
DESCRIPTION:Komm zum Singen im Open Tiny! Dienstags 19:00-22:00
URL:https://opentiny.de/event/karaoke-25/
END:VEVENT
BEGIN:VEVENT
DTSTART;TZID=Europe/Berlin:20260728T190000
DTEND;TZID=Europe/Berlin:20260728T220000
DTSTAMP:20260426T034044
CREATED:20260313T115351Z
LAST-MODIFIED:20260313T115351Z
UID:1881-1785265200-1785276000@opentiny.de
SUMMARY:Karaoke
DESCRIPTION:Komm zum Singen im Open Tiny! Dienstags 19:00-22:00
URL:https://opentiny.de/event/karaoke-26/
END:VEVENT
BEGIN:VEVENT
DTSTART;TZID=Europe/Berlin:20260802T160000
DTEND;TZID=Europe/Berlin:20260802T210000
DTSTAMP:20260426T034044
CREATED:20260313T112726Z
LAST-MODIFIED:20260313T112726Z
UID:1836-1785686400-1785704400@opentiny.de
SUMMARY:Board Game Night
DESCRIPTION:Brettspiele im Open Tiny. Grundausstattung vorhanden – eigene Spiele willkommen!
URL:https://opentiny.de/event/board-game-night-6/
END:VEVENT
BEGIN:VEVENT
DTSTART;TZID=Europe/Berlin:20260803T200000
DTEND;TZID=Europe/Berlin:20260803T210000
DTSTAMP:20260426T034044
CREATED:20260313T115351Z
LAST-MODIFIED:20260313T115351Z
UID:1882-1785787200-1785790800@opentiny.de
SUMMARY:Open Tiny ° Open Door
DESCRIPTION:Jeden ersten Montag im Monat öffnen wir unsere Türen für Interessierte. Möchtest du ein Projekt im Open Tiny machen? Möchtest du Mitglied im Verein werden? Oder einfach mal sehen was wir so machen? Dann komm vorbei! Gerne mit Anmeldung via Email.
URL:https://opentiny.de/event/open-tiny-open-door-7/
END:VEVENT
BEGIN:VEVENT
DTSTART;TZID=Europe/Berlin:20260804T190000
DTEND;TZID=Europe/Berlin:20260804T220000
DTSTAMP:20260426T034044
CREATED:20260313T115351Z
LAST-MODIFIED:20260313T115351Z
UID:1883-1785870000-1785880800@opentiny.de
SUMMARY:Karaoke
DESCRIPTION:Komm zum Singen im Open Tiny! Dienstags 19:00-22:00
URL:https://opentiny.de/event/karaoke-27/
END:VEVENT
BEGIN:VEVENT
DTSTART;TZID=Europe/Berlin:20260810T183000
DTEND;TZID=Europe/Berlin:20260810T210000
DTSTAMP:20260426T034044
CREATED:20260313T115351Z
LAST-MODIFIED:20260313T115351Z
UID:1884-1786386600-1786395600@opentiny.de
SUMMARY:Repair Café
DESCRIPTION:Toaster\, Staubsauger\, Beamer\, Stereoanlage defekt? Bitte nicht wegwerfen!! Wir geben Hilfe zur Selbsthilfe! Gemeinsam versuchen wir\, deine kaputten Geräte zu reparieren. Elektro – Audio – Unterhaltungselektronik. Komm vorbei\, keine Anmeldung nötig! Immer am 2. Montag im Monat
URL:https://opentiny.de/event/repair-cafe-48/
END:VEVENT
BEGIN:VEVENT
DTSTART;TZID=Europe/Berlin:20260811T190000
DTEND;TZID=Europe/Berlin:20260811T220000
DTSTAMP:20260426T034044
CREATED:20260313T115351Z
LAST-MODIFIED:20260313T115351Z
UID:1885-1786474800-1786485600@opentiny.de
SUMMARY:Karaoke
DESCRIPTION:Komm zum Singen im Open Tiny! Dienstags 19:00-22:00
URL:https://opentiny.de/event/karaoke-28/
END:VEVENT
BEGIN:VEVENT
DTSTART;TZID=Europe/Berlin:20260818T190000
DTEND;TZID=Europe/Berlin:20260818T220000
DTSTAMP:20260426T034044
CREATED:20260313T115518Z
LAST-MODIFIED:20260313T115518Z
UID:1886-1787079600-1787090400@opentiny.de
SUMMARY:Karaoke
DESCRIPTION:Komm zum Singen im Open Tiny! Dienstags 19:00-22:00
URL:https://opentiny.de/event/karaoke-29/
END:VEVENT
BEGIN:VEVENT
DTSTART;TZID=Europe/Berlin:20260825T190000
DTEND;TZID=Europe/Berlin:20260825T220000
DTSTAMP:20260426T034044
CREATED:20260313T115518Z
LAST-MODIFIED:20260313T115518Z
UID:1887-1787684400-1787695200@opentiny.de
SUMMARY:Karaoke
DESCRIPTION:Komm zum Singen im Open Tiny! Dienstags 19:00-22:00
URL:https://opentiny.de/event/karaoke-30/
END:VEVENT
BEGIN:VEVENT
DTSTART;TZID=Europe/Berlin:20260901T190000
DTEND;TZID=Europe/Berlin:20260901T220000
DTSTAMP:20260426T034044
CREATED:20260313T115518Z
LAST-MODIFIED:20260313T115518Z
UID:1888-1788289200-1788300000@opentiny.de
SUMMARY:Karaoke
DESCRIPTION:Komm zum Singen im Open Tiny! Dienstags 19:00-22:00
URL:https://opentiny.de/event/karaoke-31/
END:VEVENT
BEGIN:VEVENT
DTSTART;TZID=Europe/Berlin:20260906T160000
DTEND;TZID=Europe/Berlin:20260906T210000
DTSTAMP:20260426T034044
CREATED:20260313T112727Z
LAST-MODIFIED:20260313T112728Z
UID:1837-1788710400-1788728400@opentiny.de
SUMMARY:Board Game Night
DESCRIPTION:Brettspiele im Open Tiny. Grundausstattung vorhanden – eigene Spiele willkommen!
URL:https://opentiny.de/event/board-game-night-7/
END:VEVENT
BEGIN:VEVENT
DTSTART;TZID=Europe/Berlin:20260907T200000
DTEND;TZID=Europe/Berlin:20260907T210000
DTSTAMP:20260426T034044
CREATED:20260313T115518Z
LAST-MODIFIED:20260313T115518Z
UID:1889-1788811200-1788814800@opentiny.de
SUMMARY:Open Tiny ° Open Door
DESCRIPTION:Jeden ersten Montag im Monat öffnen wir unsere Türen für Interessierte. Möchtest du ein Projekt im Open Tiny machen? Möchtest du Mitglied im Verein werden? Oder einfach mal sehen was wir so machen? Dann komm vorbei! Gerne mit Anmeldung via Email.
URL:https://opentiny.de/event/open-tiny-open-door-8/
END:VEVENT
BEGIN:VEVENT
DTSTART;TZID=Europe/Berlin:20260908T190000
DTEND;TZID=Europe/Berlin:20260908T220000
DTSTAMP:20260426T034044
CREATED:20260313T115518Z
LAST-MODIFIED:20260313T115518Z
UID:1890-1788894000-1788904800@opentiny.de
SUMMARY:Karaoke
DESCRIPTION:Komm zum Singen im Open Tiny! Dienstags 19:00-22:00
URL:https://opentiny.de/event/karaoke-32/
END:VEVENT
END:VCALENDAR